BEGIN:VCALENDAR
VERSION:2.0
PRODID:-//MetroSonic Recording Studios NYC | Best Brooklyn NY Analog Recording Studios - ECPv4.9.2//NONSGML v1.0//EN
CALSCALE:GREGORIAN
METHOD:PUBLISH
X-WR-CALNAME:MetroSonic Recording Studios NYC | Best Brooklyn NY Analog Recording Studios
X-ORIGINAL-URL:https://www.metrosonic.net
X-WR-CALDESC:Events for MetroSonic Recording Studios NYC | Best Brooklyn NY Analog Recording Studios
BEGIN:VEVENT
DTSTART;TZID=America/New_York:20131117T080000
DTEND;TZID=America/New_York:20151101T170000
DTSTAMP:20260423T084345
CREATED:20131117T210303Z
LAST-MODIFIED:20150124T165343Z
UID:4434-1384675200-1446397200@www.metrosonic.net
SUMMARY:DAMEHT Live@Metrosonic from 11/15 show pics & video
DESCRIPTION:View the exclusive video and all the pics from the DAMEHT Live@Metrosonic show here: \nhttps://www.metrosonic.net/dameht-livemetrosonic/ \n  \n
URL:https://www.metrosonic.net/event/dameht-livemetrosonic-from-1115-show-pics-video/
ATTACH;FMTTYPE=image/jpeg:https://www.metrosonic.net/wp-content/uploads/2013/11/mcbride_clay_patrickdscf2522.jpg
END:VEVENT
END:VCALENDAR